BEGIN:VCALENDAR
VERSION:2.0
PRODID:-//mnbc.ch - ECPv6.15.20//NONSGML v1.0//EN
CALSCALE:GREGORIAN
METHOD:PUBLISH
X-WR-CALNAME:mnbc.ch
X-ORIGINAL-URL:https://mnbc.ch
X-WR-CALDESC:Évènements pour mnbc.ch
REFRESH-INTERVAL;VALUE=DURATION:PT1H
X-Robots-Tag:noindex
X-PUBLISHED-TTL:PT1H
BEGIN:VTIMEZONE
TZID:Europe/Zurich
BEGIN:DAYLIGHT
TZOFFSETFROM:+0100
TZOFFSETTO:+0200
TZNAME:CEST
DTSTART:20250330T010000
END:DAYLIGHT
BEGIN:STANDARD
TZOFFSETFROM:+0200
TZOFFSETTO:+0100
TZNAME:CET
DTSTART:20251026T010000
END:STANDARD
BEGIN:DAYLIGHT
TZOFFSETFROM:+0100
TZOFFSETTO:+0200
TZNAME:CEST
DTSTART:20260329T010000
END:DAYLIGHT
BEGIN:STANDARD
TZOFFSETFROM:+0200
TZOFFSETTO:+0100
TZNAME:CET
DTSTART:20261025T010000
END:STANDARD
BEGIN:DAYLIGHT
TZOFFSETFROM:+0100
TZOFFSETTO:+0200
TZNAME:CEST
DTSTART:20270328T010000
END:DAYLIGHT
BEGIN:STANDARD
TZOFFSETFROM:+0200
TZOFFSETTO:+0100
TZNAME:CET
DTSTART:20271031T010000
END:STANDARD
END:VTIMEZONE
BEGIN:VEVENT
DTSTART;TZID=Europe/Zurich:20260810T080000
DTEND;TZID=Europe/Zurich:20260812T170000
DTSTAMP:20260425T140738
CREATED:20250519T110016Z
LAST-MODIFIED:20260311T174306Z
UID:640-1786348800-1786554000@mnbc.ch
SUMMARY:bike summer camp
DESCRIPTION:Camp d’été de 3 jours ! \nEmplacement à définir \nAu programme : Flowtrail – Single trails – Pumptrack et technique \nRéservé aux enfants/jeunes entre 8 ans et 16 ans \nPrix = CHF 300.- entre 4 et 6 participants\, CHF 250.- si plus de 6 participants \nEncadrement par moniteur J+S et instructeur Swiss Cycling Academy 4 Kids \nDélai d’inscription : 30 juin 2026
URL:https://mnbc.ch/event/bike-summer-camp/
LOCATION:Leukerbad\, Leukerbad\, 3954\, Suisse
CATEGORIES:bike school
ATTACH;FMTTYPE=image/jpeg:https://mnbc.ch/wp-content/uploads/2025/05/bike-tsoumaz-scaled.jpg
END:VEVENT
END:VCALENDAR