BEGIN:VCALENDAR
VERSION:2.0
PRODID:-//mnbc.ch - ECPv6.15.20//NONSGML v1.0//EN
CALSCALE:GREGORIAN
METHOD:PUBLISH
X-WR-CALNAME:mnbc.ch
X-ORIGINAL-URL:https://mnbc.ch
X-WR-CALDESC:Évènements pour mnbc.ch
REFRESH-INTERVAL;VALUE=DURATION:PT1H
X-Robots-Tag:noindex
X-PUBLISHED-TTL:PT1H
BEGIN:VTIMEZONE
TZID:Europe/Zurich
BEGIN:DAYLIGHT
TZOFFSETFROM:+0100
TZOFFSETTO:+0200
TZNAME:CEST
DTSTART:20250330T010000
END:DAYLIGHT
BEGIN:STANDARD
TZOFFSETFROM:+0200
TZOFFSETTO:+0100
TZNAME:CET
DTSTART:20251026T010000
END:STANDARD
BEGIN:DAYLIGHT
TZOFFSETFROM:+0100
TZOFFSETTO:+0200
TZNAME:CEST
DTSTART:20260329T010000
END:DAYLIGHT
BEGIN:STANDARD
TZOFFSETFROM:+0200
TZOFFSETTO:+0100
TZNAME:CET
DTSTART:20261025T010000
END:STANDARD
BEGIN:DAYLIGHT
TZOFFSETFROM:+0100
TZOFFSETTO:+0200
TZNAME:CEST
DTSTART:20270328T010000
END:DAYLIGHT
BEGIN:STANDARD
TZOFFSETFROM:+0200
TZOFFSETTO:+0100
TZNAME:CET
DTSTART:20271031T010000
END:STANDARD
END:VTIMEZONE
BEGIN:VEVENT
DTSTART;TZID=Europe/Zurich:20260504T153000
DTEND;TZID=Europe/Zurich:20260504T193000
DTSTAMP:20260424T142716
CREATED:20250203T203702Z
LAST-MODIFIED:20260311T172909Z
UID:555-1777908600-1777923000@mnbc.ch
SUMMARY:bike school 1
DESCRIPTION:Premier cours de la saison | \n16h30 – 17h30 sparrow league | \nhoraire à définir :  falcon league | \n18h00 – 19h30 eagle league
URL:https://mnbc.ch/event/bike-school-1/
LOCATION:Tsébetta\, Chemin de Tsébetta 2\, Nax\, 1973
CATEGORIES:bike school
END:VEVENT
BEGIN:VEVENT
DTSTART;TZID=Europe/Zurich:20260508T180000
DTEND;TZID=Europe/Zurich:20260508T220000
DTSTAMP:20260424T142716
CREATED:20250203T202701Z
LAST-MODIFIED:20260311T171237Z
UID:549-1778263200-1778277600@mnbc.ch
SUMMARY:skills games + grillade
DESCRIPTION:Première soirée de l’année pour bien débuter ! Tout le club est invité : grands et petits ! Nous ferons quelques jeux d’agilité sur le vélo puis nous partagerons une grillade
URL:https://mnbc.ch/event/skills-games-grillade/
LOCATION:Tsébetta\, Chemin de Tsébetta 2\, Nax\, 1973
CATEGORIES:bike school,Sortie du club
ATTACH;FMTTYPE=image/jpeg:https://mnbc.ch/wp-content/uploads/2025/02/IMG_2398-scaled.jpeg
END:VEVENT
BEGIN:VEVENT
DTSTART;TZID=Europe/Zurich:20260511T153000
DTEND;TZID=Europe/Zurich:20260511T193000
DTSTAMP:20260424T142716
CREATED:20250207T210916Z
LAST-MODIFIED:20260311T173015Z
UID:564-1778513400-1778527800@mnbc.ch
SUMMARY:bike school 2
DESCRIPTION:16h30 – 17h30 sparrow league | \nhoraire à définir :  falcon league | \n18h00 – 19h30 eagle league
URL:https://mnbc.ch/event/bike-school-2/
LOCATION:Tsébetta\, Chemin de Tsébetta 2\, Nax\, 1973
CATEGORIES:bike school
END:VEVENT
BEGIN:VEVENT
DTSTART;TZID=Europe/Zurich:20260518T153000
DTEND;TZID=Europe/Zurich:20260518T193000
DTSTAMP:20260424T142716
CREATED:20250207T211252Z
LAST-MODIFIED:20260311T173112Z
UID:567-1779118200-1779132600@mnbc.ch
SUMMARY:bike school 3
DESCRIPTION:16h30 – 17h30 sparrow league | \nhoraire à définir :  falcon league | \n18h00 – 19h30 eagle league
URL:https://mnbc.ch/event/bike-school-3/
LOCATION:Tsébetta\, Chemin de Tsébetta 2\, Nax\, 1973
CATEGORIES:bike school
END:VEVENT
BEGIN:VEVENT
DTSTART;VALUE=DATE:20260523
DTEND;VALUE=DATE:20260526
DTSTAMP:20260424T142716
CREATED:20260311T174512Z
LAST-MODIFIED:20260409T204033Z
UID:683-1779494400-1779753599@mnbc.ch
SUMMARY:Eagle bike camp
DESCRIPTION:Camp de 3 jours à la Pentecôte ! \nFinale Ligure !!! \nAu programme : Rouler sur les plus beaux single trails de Finale Ligure\, la Mecque du VTT. \nRéservé aux enfants/jeunes à partir de 12 ans \nPrix = 350.- \nEncadrement par moniteur J+S et instructeur Swiss Cycling Academy 4 Kids \nDélai d’inscription :30 avril 2026
URL:https://mnbc.ch/event/eagle-bike-camp/
ATTACH;FMTTYPE=image/jpeg:https://mnbc.ch/wp-content/uploads/2026/03/IMG_6620-scaled.jpeg
END:VEVENT
END:VCALENDAR